BEGIN:VCALENDAR
VERSION:2.0
PRODID:-//Valle del Mastodonte - ECPv5.14.1//NONSGML v1.0//EN
CALSCALE:GREGORIAN
METHOD:PUBLISH
X-WR-CALNAME:Valle del Mastodonte
X-ORIGINAL-URL:https://valledelmastodonte.it
X-WR-CALDESC:Eventi per Valle del Mastodonte
REFRESH-INTERVAL;VALUE=DURATION:PT1H
X-Robots-Tag:noindex
X-PUBLISHED-TTL:PT1H
BEGIN:VTIMEZONE
TZID:UTC
BEGIN:STANDARD
TZOFFSETFROM:+0000
TZOFFSETTO:+0000
TZNAME:UTC
DTSTART:20240101T000000
END:STANDARD
END:VTIMEZONE
BEGIN:VEVENT
DTSTART;TZID=UTC:20251115T210000
DTEND;TZID=UTC:20251115T233000
DTSTAMP:20260421T180621
CREATED:20251111T182254Z
LAST-MODIFIED:20251111T182254Z
UID:20016-1763240400-1763249400@valledelmastodonte.it
SUMMARY:I Conservatori in Piemonte - Serendipity Duo
DESCRIPTION:
URL:https://valledelmastodonte.it/evento/i-conservatori-in-piemonte-serendipity-duo/
LOCATION:Villafranca d’Asti\, Villafranca d'Asti\, Italia
CATEGORIES:Musica
ATTACH;FMTTYPE=image/jpeg:https://valledelmastodonte.it/wp-content/uploads/2025/11/WhatsApp-Image-2025-11-10-at-20.34.52-1.jpeg
END:VEVENT
BEGIN:VEVENT
DTSTART;TZID=UTC:20251023T210000
DTEND;TZID=UTC:20251026T233000
DTSTAMP:20260421T180621
CREATED:20251023T082658Z
LAST-MODIFIED:20251023T082658Z
UID:20002-1761253200-1761521400@valledelmastodonte.it
SUMMARY:25a Sagra del Bollito Piemontese
DESCRIPTION:
URL:https://valledelmastodonte.it/evento/25a-sagra-del-bollito-piemontese/
LOCATION:Valfenera\, Valfenera\, Italia
CATEGORIES:Enogastronomia,Fiera,Intrattenimento,Musica
ATTACH;FMTTYPE=image/jpeg:https://valledelmastodonte.it/wp-content/uploads/2025/10/WhatsApp-Image-2025-10-16-at-08.31.53.jpeg
END:VEVENT
BEGIN:VEVENT
DTSTART;TZID=UTC:20250919T180000
DTEND;TZID=UTC:20250920T233000
DTSTAMP:20260421T180621
CREATED:20250910T194702Z
LAST-MODIFIED:20250915T200618Z
UID:19980-1758304800-1758411000@valledelmastodonte.it
SUMMARY:Vininvilla
DESCRIPTION:
URL:https://valledelmastodonte.it/evento/vininvilla-3/
LOCATION:Villafranca d’Asti\, Villafranca d'Asti\, Italia
CATEGORIES:Enogastronomia,Intrattenimento,Musica
ATTACH;FMTTYPE=image/jpeg:https://valledelmastodonte.it/wp-content/uploads/2025/09/VinidAutore1.jpg
END:VEVENT
BEGIN:VEVENT
DTSTART;TZID=UTC:20250912T211500
DTEND;TZID=UTC:20250912T233000
DTSTAMP:20260421T180621
CREATED:20250908T063803Z
LAST-MODIFIED:20250908T063803Z
UID:19977-1757711700-1757719800@valledelmastodonte.it
SUMMARY:Novecento. La leggenda del pianista sull'oceano
DESCRIPTION:
URL:https://valledelmastodonte.it/evento/novecento-la-leggenda-del-pianista-sulloceano/
LOCATION:Ferrere\, Ferrere\, Italia
CATEGORIES:Intrattenimento,Musica
ATTACH;FMTTYPE=image/jpeg:https://valledelmastodonte.it/wp-content/uploads/2025/09/WhatsApp-Image-2025-09-06-at-08.06.47.jpeg
END:VEVENT
BEGIN:VEVENT
DTSTART;TZID=UTC:20250825T210000
DTEND;TZID=UTC:20250825T233000
DTSTAMP:20260421T180621
CREATED:20250820T193032Z
LAST-MODIFIED:20250820T193152Z
UID:19968-1756155600-1756164600@valledelmastodonte.it
SUMMARY:De Andrè - Musica dal vivo
DESCRIPTION:
URL:https://valledelmastodonte.it/evento/de-andre-musica-dal-vivo/
LOCATION:Valfenera\, Valfenera\, Italia
CATEGORIES:Musica
ATTACH;FMTTYPE=image/jpeg:https://valledelmastodonte.it/wp-content/uploads/2025/08/WhatsApp-Image-2025-08-19-at-21.38.18.jpeg
END:VEVENT
BEGIN:VEVENT
DTSTART;TZID=UTC:20250820T203000
DTEND;TZID=UTC:20250825T233000
DTSTAMP:20260421T180621
CREATED:20250820T190753Z
LAST-MODIFIED:20250820T190753Z
UID:19960-1755721800-1756164600@valledelmastodonte.it
SUMMARY:Festa patronale di San Bartolomeo
DESCRIPTION:
URL:https://valledelmastodonte.it/evento/festa-patronale-di-san-bartolomeo-3/
LOCATION:Valfenera\, Valfenera\, Italia
CATEGORIES:Enogastronomia,Fiera,Intrattenimento,Musica
ATTACH;FMTTYPE=image/jpeg:https://valledelmastodonte.it/wp-content/uploads/2025/08/WhatsApp-Image-2025-08-19-at-21.39.12.jpeg
END:VEVENT
BEGIN:VEVENT
DTSTART;VALUE=DATE:20250628
DTEND;VALUE=DATE:20250703
DTSTAMP:20260421T180621
CREATED:20250609T122213Z
LAST-MODIFIED:20250609T122213Z
UID:19900-1751068800-1751500799@valledelmastodonte.it
SUMMARY:Festa Patronale Castellero
DESCRIPTION:
URL:https://valledelmastodonte.it/evento/festa-patronale-castellero-3/
LOCATION:Castellero\, Castellero\, Italia
CATEGORIES:Camminata,Enogastronomia,Musica
ATTACH;FMTTYPE=image/jpeg:https://valledelmastodonte.it/wp-content/uploads/2025/06/caste.jpg
END:VEVENT
BEGIN:VEVENT
DTSTART;TZID=UTC:20250613T200000
DTEND;TZID=UTC:20250615T233000
DTSTAMP:20260421T180621
CREATED:20250604T164501Z
LAST-MODIFIED:20250604T164501Z
UID:19896-1749844800-1750030200@valledelmastodonte.it
SUMMARY:Festa d'estate
DESCRIPTION:
URL:https://valledelmastodonte.it/evento/festa-destate-2/
LOCATION:Monale\, Monale\, Italia
CATEGORIES:Enogastronomia,Intrattenimento,Musica
ATTACH;FMTTYPE=image/jpeg:https://valledelmastodonte.it/wp-content/uploads/2025/06/Comune-di-Monale-AT_20250604_070933_0001.jpg
END:VEVENT
BEGIN:VEVENT
DTSTART;TZID=UTC:20250607T193000
DTEND;TZID=UTC:20250607T233000
DTSTAMP:20260421T180621
CREATED:20250512T142855Z
LAST-MODIFIED:20250512T142855Z
UID:19851-1749324600-1749339000@valledelmastodonte.it
SUMMARY:Festa dell'uva fiorita
DESCRIPTION:
URL:https://valledelmastodonte.it/evento/festa-delluva-fiorita-3/
LOCATION:Maretto\, Maretto\, Italia
CATEGORIES:Enogastronomia,Musica
ATTACH;FMTTYPE=image/jpeg:https://valledelmastodonte.it/wp-content/uploads/2025/05/uva.jpg
END:VEVENT
BEGIN:VEVENT
DTSTART;TZID=UTC:20250607T190000
DTEND;TZID=UTC:20250608T233000
DTSTAMP:20260421T180621
CREATED:20250530T142907Z
LAST-MODIFIED:20250530T142907Z
UID:19887-1749322800-1749425400@valledelmastodonte.it
SUMMARY:30a Sagra del fritto misto piemontese
DESCRIPTION:
URL:https://valledelmastodonte.it/evento/30a-sagra-del-fritto-misto-piemontese/
LOCATION:Ferrere\, Ferrere\, Italia
CATEGORIES:Enogastronomia,Musica
ATTACH;FMTTYPE=image/jpeg:https://valledelmastodonte.it/wp-content/uploads/2025/05/ferre.jpg
END:VEVENT
BEGIN:VEVENT
DTSTART;TZID=UTC:20250606T200000
DTEND;TZID=UTC:20250608T233000
DTSTAMP:20260421T180621
CREATED:20250530T143033Z
LAST-MODIFIED:20250530T143033Z
UID:19890-1749240000-1749425400@valledelmastodonte.it
SUMMARY:Festa di primavera
DESCRIPTION:
URL:https://valledelmastodonte.it/evento/festa-di-primavera-2/
LOCATION:Valfenera\, Valfenera\, Italia
CATEGORIES:Enogastronomia,Musica
ATTACH;FMTTYPE=image/jpeg:https://valledelmastodonte.it/wp-content/uploads/2025/05/prima.jpg
END:VEVENT
BEGIN:VEVENT
DTSTART;TZID=UTC:20250601T150000
DTEND;TZID=UTC:20250601T233000
DTSTAMP:20260421T180621
CREATED:20250530T142756Z
LAST-MODIFIED:20250530T143450Z
UID:19884-1748790000-1748820600@valledelmastodonte.it
SUMMARY:Pizza in Piazza
DESCRIPTION:
URL:https://valledelmastodonte.it/evento/pizza-in-piazza-2/
LOCATION:Castellero\, Castellero\, Italia
CATEGORIES:Enogastronomia,Intrattenimento,Musica
ATTACH;FMTTYPE=image/jpeg:https://valledelmastodonte.it/wp-content/uploads/2025/05/caste1.jpg
END:VEVENT
BEGIN:VEVENT
DTSTART;TZID=UTC:20250509T203000
DTEND;TZID=UTC:20250511T180000
DTSTAMP:20260421T180621
CREATED:20250429T062257Z
LAST-MODIFIED:20250429T062257Z
UID:19804-1746822600-1746986400@valledelmastodonte.it
SUMMARY:Maiale d'Autore
DESCRIPTION:
URL:https://valledelmastodonte.it/evento/maiale-dautore-4/
LOCATION:Villafranca d’Asti\, Villafranca d'Asti\, Italia
CATEGORIES:Enogastronomia,Intrattenimento,Musica
ATTACH;FMTTYPE=image/jpeg:https://valledelmastodonte.it/wp-content/uploads/2025/04/mai1.jpg
END:VEVENT
BEGIN:VEVENT
DTSTART;TZID=UTC:20250406T160000
DTEND;TZID=UTC:20250406T220000
DTSTAMP:20260421T180621
CREATED:20250402T213100Z
LAST-MODIFIED:20250402T213100Z
UID:19789-1743955200-1743976800@valledelmastodonte.it
SUMMARY:Family time
DESCRIPTION:
URL:https://valledelmastodonte.it/evento/family-time/
LOCATION:Villafranca d’Asti\, Villafranca d'Asti\, Italia
CATEGORIES:Enogastronomia,Intrattenimento,Musica
ATTACH;FMTTYPE=image/jpeg:https://valledelmastodonte.it/wp-content/uploads/2025/04/family.jpg
END:VEVENT
BEGIN:VEVENT
DTSTART;TZID=UTC:20250105T210000
DTEND;TZID=UTC:20250105T230000
DTSTAMP:20260421T180621
CREATED:20241215T154125Z
LAST-MODIFIED:20241215T154125Z
UID:19673-1736110800-1736118000@valledelmastodonte.it
SUMMARY:Concerto dell'Epifania
DESCRIPTION:
URL:https://valledelmastodonte.it/evento/concerto-dellepifania/
LOCATION:Roatto\, Roatto\, Italia
CATEGORIES:Musica
ATTACH;FMTTYPE=image/jpeg:https://valledelmastodonte.it/wp-content/uploads/2024/12/roatto.jpg
END:VEVENT
BEGIN:VEVENT
DTSTART;TZID=UTC:20241223T210000
DTEND;TZID=UTC:20241223T230000
DTSTAMP:20260421T180621
CREATED:20241214T164114Z
LAST-MODIFIED:20241214T164114Z
UID:19667-1734987600-1734994800@valledelmastodonte.it
SUMMARY:Concerto di Natale
DESCRIPTION:
URL:https://valledelmastodonte.it/evento/concerto-di-natale-5/
LOCATION:Villafranca d’Asti\, Villafranca d'Asti\, Italia
CATEGORIES:Musica
ATTACH;FMTTYPE=image/jpeg:https://valledelmastodonte.it/wp-content/uploads/2024/12/natale.jpg
END:VEVENT
BEGIN:VEVENT
DTSTART;TZID=UTC:20241215T160000
DTEND;TZID=UTC:20241215T180000
DTSTAMP:20260421T180621
CREATED:20241209T165251Z
LAST-MODIFIED:20241209T165251Z
UID:19661-1734278400-1734285600@valledelmastodonte.it
SUMMARY:Concerto di Natale
DESCRIPTION:
URL:https://valledelmastodonte.it/evento/concerto-di-natale-4/
LOCATION:Montafia\, Montafia\, Italia
CATEGORIES:Musica
ATTACH;FMTTYPE=image/jpeg:https://valledelmastodonte.it/wp-content/uploads/2024/12/nata-1-1.jpg
END:VEVENT
BEGIN:VEVENT
DTSTART;TZID=UTC:20241209T210000
DTEND;TZID=UTC:20241209T233000
DTSTAMP:20260421T180621
CREATED:20241203T194124Z
LAST-MODIFIED:20241203T194124Z
UID:19644-1733778000-1733787000@valledelmastodonte.it
SUMMARY:Concerto di Natale
DESCRIPTION:
URL:https://valledelmastodonte.it/evento/concerto-di-natale-3/
LOCATION:Villafranca d’Asti\, Villafranca d'Asti\, Italia
CATEGORIES:Musica
ATTACH;FMTTYPE=image/jpeg:https://valledelmastodonte.it/wp-content/uploads/2024/12/villa.jpg
END:VEVENT
BEGIN:VEVENT
DTSTART;TZID=UTC:20241026T190000
DTEND;TZID=UTC:20241027T233000
DTSTAMP:20260421T180621
CREATED:20241022T151828Z
LAST-MODIFIED:20241022T151857Z
UID:19508-1729969200-1730071800@valledelmastodonte.it
SUMMARY:24a Sagra del Bollito Piemontese
DESCRIPTION:
URL:https://valledelmastodonte.it/evento/24a-sagra-del-bollito-piemontese/
LOCATION:Valfenera\, Valfenera\, Italia
CATEGORIES:Enogastronomia,Fiera,Intrattenimento,Musica
ATTACH;FMTTYPE=image/jpeg:https://valledelmastodonte.it/wp-content/uploads/2024/10/valfe.jpg
END:VEVENT
BEGIN:VEVENT
DTSTART;TZID=UTC:20241013T170000
DTEND;TZID=UTC:20241013T193000
DTSTAMP:20260421T180621
CREATED:20240917T140613Z
LAST-MODIFIED:20240917T140925Z
UID:19438-1728838800-1728847800@valledelmastodonte.it
SUMMARY:Cantantibus Organis
DESCRIPTION:
URL:https://valledelmastodonte.it/evento/cantantibus-organis-4/
LOCATION:Roatto\, Roatto\, Italia
CATEGORIES:Musica
ATTACH;FMTTYPE=image/jpeg:https://valledelmastodonte.it/wp-content/uploads/2024/09/ca.jpg
END:VEVENT
BEGIN:VEVENT
DTSTART;TZID=UTC:20241004T200000
DTEND;TZID=UTC:20241006T160000
DTSTAMP:20260421T180621
CREATED:20241001T151627Z
LAST-MODIFIED:20241001T151627Z
UID:19476-1728072000-1728230400@valledelmastodonte.it
SUMMARY:Festa patronale Baldichieri
DESCRIPTION:
URL:https://valledelmastodonte.it/evento/festa-patronale-baldichieri/
LOCATION:Baldichieri\, Baldichieri\, Italia
CATEGORIES:Enogastronomia,Intrattenimento,Musica
ATTACH;FMTTYPE=image/jpeg:https://valledelmastodonte.it/wp-content/uploads/2024/10/baldichieri-1.jpg
END:VEVENT
BEGIN:VEVENT
DTSTART;TZID=UTC:20240929T180000
DTEND;TZID=UTC:20240929T203000
DTSTAMP:20260421T180621
CREATED:20240917T140536Z
LAST-MODIFIED:20240917T140934Z
UID:19435-1727632800-1727641800@valledelmastodonte.it
SUMMARY:Cantantibus Organis
DESCRIPTION:
URL:https://valledelmastodonte.it/evento/cantantibus-organis-3/
LOCATION:Castellero\, Castellero\, Italia
CATEGORIES:Musica
ATTACH;FMTTYPE=image/jpeg:https://valledelmastodonte.it/wp-content/uploads/2024/09/ca.jpg
END:VEVENT
BEGIN:VEVENT
DTSTART;TZID=UTC:20240927T200000
DTEND;TZID=UTC:20240929T233000
DTSTAMP:20260421T180621
CREATED:20240929T051349Z
LAST-MODIFIED:20240929T051349Z
UID:19467-1727467200-1727652600@valledelmastodonte.it
SUMMARY:Sagra dello gnocco
DESCRIPTION:
URL:https://valledelmastodonte.it/evento/sagra-dello-gnocco-2/
LOCATION:Dusino San Michele\, Dusino San Michele\, Italia
CATEGORIES:Enogastronomia,Intrattenimento,Musica
ATTACH;FMTTYPE=image/jpeg:https://valledelmastodonte.it/wp-content/uploads/2024/09/gnocco.jpg
END:VEVENT
BEGIN:VEVENT
DTSTART;TZID=UTC:20240830T193000
DTEND;TZID=UTC:20240831T233000
DTSTAMP:20260421T180621
CREATED:20240827T051136Z
LAST-MODIFIED:20240827T051136Z
UID:19420-1725046200-1725147000@valledelmastodonte.it
SUMMARY:Vininvilla
DESCRIPTION:
URL:https://valledelmastodonte.it/evento/vininvilla-2/
LOCATION:Villafranca d’Asti\, Villafranca d'Asti\, Italia
CATEGORIES:Enogastronomia,Intrattenimento,Musica
ATTACH;FMTTYPE=image/jpeg:https://valledelmastodonte.it/wp-content/uploads/2024/08/Villafranca_vininvilla.jpg
END:VEVENT
BEGIN:VEVENT
DTSTART;TZID=UTC:20240821T203000
DTEND;TZID=UTC:20240826T233000
DTSTAMP:20260421T180621
CREATED:20240821T100244Z
LAST-MODIFIED:20240821T100244Z
UID:19416-1724272200-1724715000@valledelmastodonte.it
SUMMARY:Festa patronale di San Bartolomeo
DESCRIPTION:
URL:https://valledelmastodonte.it/evento/festa-patronale-di-san-bartolomeo-2/
LOCATION:Valfenera\, Valfenera\, Italia
CATEGORIES:Enogastronomia,Fiera,Intrattenimento,Musica
ATTACH;FMTTYPE=image/jpeg:https://valledelmastodonte.it/wp-content/uploads/2024/08/valfe1.jpg
END:VEVENT
BEGIN:VEVENT
DTSTART;TZID=UTC:20240810T193000
DTEND;TZID=UTC:20240813T233000
DTSTAMP:20260421T180621
CREATED:20240615T101908Z
LAST-MODIFIED:20240806T105527Z
UID:19270-1723318200-1723591800@valledelmastodonte.it
SUMMARY:Sagra dell'agnolotto e della tinca in carpione
DESCRIPTION: 
URL:https://valledelmastodonte.it/evento/sagra-dellagnolotto-e-della-tinca-in-carpione/
LOCATION:Cantarana\, Cantarana\, Italia
CATEGORIES:Enogastronomia,Intrattenimento,Mostra,Musica
ATTACH;FMTTYPE=image/jpeg:https://valledelmastodonte.it/wp-content/uploads/2024/06/ca.jpg
END:VEVENT
BEGIN:VEVENT
DTSTART;TZID=UTC:20240809T200000
DTEND;TZID=UTC:20240809T233000
DTSTAMP:20260421T180621
CREATED:20240503T185513Z
LAST-MODIFIED:20240805T142216Z
UID:19152-1723233600-1723246200@valledelmastodonte.it
SUMMARY:Monferrato on Stage
DESCRIPTION:
URL:https://valledelmastodonte.it/evento/monferrato-on-stage-12/
LOCATION:Cantarana\, Cantarana\, Italia
CATEGORIES:Enogastronomia,Musica
ATTACH;FMTTYPE=image/jpeg:https://valledelmastodonte.it/wp-content/uploads/2024/05/1.jpg
END:VEVENT
BEGIN:VEVENT
DTSTART;TZID=UTC:20240804T200000
DTEND;TZID=UTC:20240804T233000
DTSTAMP:20260421T180621
CREATED:20240503T185438Z
LAST-MODIFIED:20240801T031226Z
UID:19150-1722801600-1722814200@valledelmastodonte.it
SUMMARY:Monferrato on Stage
DESCRIPTION:
URL:https://valledelmastodonte.it/evento/monferrato-on-stage-11/
LOCATION:Roatto\, Roatto\, Italia
CATEGORIES:Enogastronomia,Musica
ATTACH;FMTTYPE=image/jpeg:https://valledelmastodonte.it/wp-content/uploads/2024/05/Graziani-Roatto-04.08.2024.jpg
END:VEVENT
BEGIN:VEVENT
DTSTART;TZID=UTC:20240802T200000
DTEND;TZID=UTC:20240807T233000
DTSTAMP:20260421T180621
CREATED:20240801T032736Z
LAST-MODIFIED:20240801T032736Z
UID:19375-1722628800-1723073400@valledelmastodonte.it
SUMMARY:Festa patronale Roatto
DESCRIPTION:
URL:https://valledelmastodonte.it/evento/festa-patronale-roatto-2/
LOCATION:Roatto\, Roatto\, Italia
CATEGORIES:Enogastronomia,Musica
ATTACH;FMTTYPE=image/jpeg:https://valledelmastodonte.it/wp-content/uploads/2024/08/ro.jpg
END:VEVENT
BEGIN:VEVENT
DTSTART;TZID=UTC:20240727T093000
DTEND;TZID=UTC:20240727T113000
DTSTAMP:20260421T180621
CREATED:20240719T065302Z
LAST-MODIFIED:20240722T150536Z
UID:19345-1722072600-1722079800@valledelmastodonte.it
SUMMARY:Villafranca inaugura il Parco delle Verne
DESCRIPTION:
URL:https://valledelmastodonte.it/evento/villafranca-inaugura-il-parco-delle-verne/
LOCATION:Villafranca d’Asti\, Villafranca d'Asti\, Italia
CATEGORIES:Cerimonia,Manifestazione,Musica
ATTACH;FMTTYPE=image/jpeg:https://valledelmastodonte.it/wp-content/uploads/2024/07/verne-1.jpg
END:VEVENT
END:VCALENDAR