BEGIN:VCALENDAR
VERSION:2.0
PRODID:-//Valle del Mastodonte - ECPv5.14.1//NONSGML v1.0//EN
CALSCALE:GREGORIAN
METHOD:PUBLISH
X-WR-CALNAME:Valle del Mastodonte
X-ORIGINAL-URL:https://valledelmastodonte.it
X-WR-CALDESC:Eventi per Valle del Mastodonte
REFRESH-INTERVAL;VALUE=DURATION:PT1H
X-Robots-Tag:noindex
X-PUBLISHED-TTL:PT1H
BEGIN:VTIMEZONE
TZID:UTC
BEGIN:STANDARD
TZOFFSETFROM:+0000
TZOFFSETTO:+0000
TZNAME:UTC
DTSTART:20260101T000000
END:STANDARD
END:VTIMEZONE
BEGIN:VEVENT
DTSTART;TZID=UTC:20260508T203000
DTEND;TZID=UTC:20260510T180000
DTSTAMP:20260421T214918
CREATED:20260421T102018Z
LAST-MODIFIED:20260421T102018Z
UID:20040-1778272200-1778436000@valledelmastodonte.it
SUMMARY:Maiale d'Autore
DESCRIPTION:
URL:https://valledelmastodonte.it/evento/maiale-dautore-5/
LOCATION:Villafranca d’Asti\, Villafranca d'Asti\, Italia
CATEGORIES:Enogastronomia,Intrattenimento,Musica
ATTACH;FMTTYPE=image/jpeg:https://valledelmastodonte.it/wp-content/uploads/2026/04/maiale.jpg
END:VEVENT
END:VCALENDAR