BEGIN:VCALENDAR
VERSION:2.0
PRODID:-//Valle del Mastodonte - ECPv5.14.1//NONSGML v1.0//EN
CALSCALE:GREGORIAN
METHOD:PUBLISH
X-WR-CALNAME:Valle del Mastodonte
X-ORIGINAL-URL:https://valledelmastodonte.it
X-WR-CALDESC:Eventi per Valle del Mastodonte
REFRESH-INTERVAL;VALUE=DURATION:PT1H
X-Robots-Tag:noindex
X-PUBLISHED-TTL:PT1H
BEGIN:VTIMEZONE
TZID:UTC
BEGIN:STANDARD
TZOFFSETFROM:+0000
TZOFFSETTO:+0000
TZNAME:UTC
DTSTART:20260101T000000
END:STANDARD
END:VTIMEZONE
BEGIN:VEVENT
DTSTART;TZID=UTC:20260501T080000
DTEND;TZID=UTC:20260502T160000
DTSTAMP:20260421T200951
CREATED:20260421T102150Z
LAST-MODIFIED:20260421T102150Z
UID:20043-1777622400-1777737600@valledelmastodonte.it
SUMMARY:14° Motoraduno Monalese
DESCRIPTION:
URL:https://valledelmastodonte.it/evento/14-motoraduno-monalese/
LOCATION:Monale\, Monale\, Italia
CATEGORIES:Enogastronomia,Intrattenimento,Musica,Sport
ATTACH;FMTTYPE=image/jpeg:https://valledelmastodonte.it/wp-content/uploads/2026/04/monale.jpg
END:VEVENT
END:VCALENDAR